BEGIN:VCALENDAR
VERSION:2.0
PRODID:-//horsealert.local//NONSGML kigkonsult.se iCalcreator 2.10.5//
CALSCALE:GREGORIAN
X-WR-TIMEZONE:Europe/Dublin
BEGIN:VTIMEZONE
TZID:Etc/GMT-1
BEGIN:STANDARD
DTSTART:20010101T000000
TZOFFSETFROM:+0100
TZOFFSETTO:+0100
TZNAME:GMT +01:00
END:STANDARD
END:VTIMEZONE
BEGIN:VEVENT
UID:20260424T130916CEST-3940nXBZJL@horsealert.local
DTSTAMP:20260424T110416Z
CATEGORIES:Horse Alerts
DESCRIPTION:St James\'s Palace Stakes \(British Champions Series\) \(Group 
 1\) \(Rnd\)
DTSTART:20140617T162500
LOCATION:England
SUMMARY:Horse Racing:St James\'s Palace Stakes \(British Champions Series\)
  \(Group 1\) \(Rnd\)
END:VEVENT
END:VCALENDAR
