BEGIN:VCALENDAR
VERSION:2.0
PRODID:-//horsealert.local//NONSGML kigkonsult.se iCalcreator 2.10.5//
CALSCALE:GREGORIAN
X-WR-TIMEZONE:Europe/Dublin
BEGIN:VTIMEZONE
TZID:Etc/GMT-1
BEGIN:STANDARD
DTSTART:20010101T000000
TZOFFSETFROM:+0100
TZOFFSETTO:+0100
TZNAME:GMT +01:00
END:STANDARD
END:VTIMEZONE
BEGIN:VEVENT
UID:20260424T112847CEST-2925lhPaV8@horsealert.local
DTSTAMP:20260424T090447Z
CATEGORIES:Horse Alerts
DESCRIPTION:Germany v Portugal Live At footballscores.com Maiden Auction St
 akes \(Div 2\)
DTSTART:20140616T144500
LOCATION:England
SUMMARY:Horse Racing:Germany v Portugal Live At footballscores.com Maiden A
 uction Stakes \(Div 2\)
END:VEVENT
END:VCALENDAR
