BEGIN:VCALENDAR
VERSION:2.0
PRODID:-//horsealert.local//NONSGML kigkonsult.se iCalcreator 2.10.5//
CALSCALE:GREGORIAN
X-WR-TIMEZONE:Europe/Dublin
BEGIN:VTIMEZONE
TZID:Etc/GMT-1
BEGIN:STANDARD
DTSTART:20010101T000000
TZOFFSETFROM:+0100
TZOFFSETTO:+0100
TZNAME:GMT +01:00
END:STANDARD
END:VTIMEZONE
BEGIN:VEVENT
UID:20260424T112722CEST-7519zowjeJ@horsealert.local
DTSTAMP:20260424T090422Z
CATEGORIES:Horse Alerts
DESCRIPTION:Tweet Us At RAFBF Classified Stakes
DTSTART:20140615T143000
LOCATION:England
SUMMARY:Horse Racing:Tweet Us At RAFBF Classified Stakes
END:VEVENT
END:VCALENDAR
