BEGIN:VCALENDAR
VERSION:2.0
PRODID:-//horsealert.local//NONSGML kigkonsult.se iCalcreator 2.10.5//
CALSCALE:GREGORIAN
X-WR-TIMEZONE:Europe/Dublin
BEGIN:VTIMEZONE
TZID:Etc/GMT-1
BEGIN:STANDARD
DTSTART:20010101T000000
TZOFFSETFROM:+0100
TZOFFSETTO:+0100
TZNAME:GMT +01:00
END:STANDARD
END:VTIMEZONE
BEGIN:VEVENT
UID:20260424T112716CEST-63136SiwlV@horsealert.local
DTSTAMP:20260424T090416Z
CATEGORIES:Horse Alerts
DESCRIPTION:Go Racing In South East Voucher For Father\'s Day Handicap Hurd
 le \(80-95\) \(Div 2\)
DTSTART:20140613T183000
LOCATION:Eire
SUMMARY:Horse Racing:Go Racing In South East Voucher For Father\'s Day Hand
 icap Hurdle \(80-95\) \(Div 2\)
END:VEVENT
END:VCALENDAR
