BEGIN:VCALENDAR
VERSION:2.0
PRODID:-//horsealert.local//NONSGML kigkonsult.se iCalcreator 2.10.5//
CALSCALE:GREGORIAN
X-WR-TIMEZONE:Europe/Dublin
BEGIN:VTIMEZONE
TZID:Etc/GMT-1
BEGIN:STANDARD
DTSTART:20010101T000000
TZOFFSETFROM:+0100
TZOFFSETTO:+0100
TZNAME:GMT +01:00
END:STANDARD
END:VTIMEZONE
BEGIN:VEVENT
UID:20260424T112824CEST-9279WpVfVf@horsealert.local
DTSTAMP:20260424T090424Z
CATEGORIES:Horse Alerts
DESCRIPTION:Your Expert Guide To Pontefract At pontefractracecoursetips.co.
 uk Maiden Auction Fillies\' Stakes
DTSTART:20140609T184000
LOCATION:England
SUMMARY:Horse Racing:Your Expert Guide To Pontefract At pontefractracecours
 etips.co.uk Maiden Auction Fillies\' Stakes
END:VEVENT
END:VCALENDAR
