BEGIN:VCALENDAR
VERSION:2.0
PRODID:-//horsealert.local//NONSGML kigkonsult.se iCalcreator 2.10.5//
CALSCALE:GREGORIAN
X-WR-TIMEZONE:Europe/Dublin
BEGIN:VTIMEZONE
TZID:Etc/GMT-1
BEGIN:STANDARD
DTSTART:20010101T000000
TZOFFSETFROM:+0100
TZOFFSETTO:+0100
TZNAME:GMT +01:00
END:STANDARD
END:VTIMEZONE
BEGIN:VEVENT
UID:20260424T145200CEST-6279H75xRv@horsealert.local
DTSTAMP:20260424T120400Z
CATEGORIES:Horse Alerts
DESCRIPTION:Des Drags Grade 2 Chase
DTSTART:20140608T144000
LOCATION:France
SUMMARY:Horse Racing:Des Drags Grade 2 Chase
END:VEVENT
END:VCALENDAR
