BEGIN:VCALENDAR
VERSION:2.0
PRODID:-//horsealert.local//NONSGML kigkonsult.se iCalcreator 2.10.5//
CALSCALE:GREGORIAN
X-WR-TIMEZONE:Europe/Dublin
BEGIN:VTIMEZONE
TZID:Etc/GMT-1
BEGIN:STANDARD
DTSTART:20010101T000000
TZOFFSETFROM:+0100
TZOFFSETTO:+0100
TZNAME:GMT +01:00
END:STANDARD
END:VTIMEZONE
BEGIN:VEVENT
UID:20260424T112820CEST-1349Ujv5Kk@horsealert.local
DTSTAMP:20260424T090420Z
CATEGORIES:Horse Alerts
DESCRIPTION:Land Rover Discovery Maiden Hurdle \(For The Provost\'s Plate C
 hallenge Trophy\)
DTSTART:20140608T141000
LOCATION:Scotland
SUMMARY:Horse Racing:Land Rover Discovery Maiden Hurdle \(For The Provost\'
 s Plate Challenge Trophy\)
END:VEVENT
END:VCALENDAR
