BEGIN:VCALENDAR
VERSION:2.0
PRODID:-//horsealert.local//NONSGML kigkonsult.se iCalcreator 2.10.5//
CALSCALE:GREGORIAN
X-WR-TIMEZONE:Europe/Dublin
BEGIN:VTIMEZONE
TZID:Etc/GMT-1
BEGIN:STANDARD
DTSTART:20010101T000000
TZOFFSETFROM:+0100
TZOFFSETTO:+0100
TZNAME:GMT +01:00
END:STANDARD
END:VTIMEZONE
BEGIN:VEVENT
UID:20260424T112817CEST-1454VBN2sB@horsealert.local
DTSTAMP:20260424T090417Z
CATEGORIES:Horse Alerts
DESCRIPTION:TRM Celebrating 25 Years In Equine Nutrition European Breeders 
 Fund Fillies Handicap
DTSTART:20140608T164500
LOCATION:Eire
SUMMARY:Horse Racing:TRM Celebrating 25 Years In Equine Nutrition European 
 Breeders Fund Fillies Handicap
END:VEVENT
END:VCALENDAR
