BEGIN:VCALENDAR
VERSION:2.0
PRODID:-//horsealert.local//NONSGML kigkonsult.se iCalcreator 2.10.5//
CALSCALE:GREGORIAN
X-WR-TIMEZONE:Europe/Dublin
BEGIN:VTIMEZONE
TZID:Etc/GMT-1
BEGIN:STANDARD
DTSTART:20010101T000000
TZOFFSETFROM:+0100
TZOFFSETTO:+0100
TZNAME:GMT +01:00
END:STANDARD
END:VTIMEZONE
BEGIN:VEVENT
UID:20260424T112722CEST-4691PZiUnJ@horsealert.local
DTSTAMP:20260424T090422Z
CATEGORIES:Horse Alerts
DESCRIPTION:totepool EBF stallions.com Edinburgh Castle Stakes \(Conditions
  Race\)
DTSTART:20140607T142000
LOCATION:Scotland
SUMMARY:Horse Racing:totepool EBF stallions.com Edinburgh Castle Stakes \(C
 onditions Race\)
END:VEVENT
END:VCALENDAR
