BEGIN:VCALENDAR
VERSION:2.0
PRODID:-//horsealert.local//NONSGML kigkonsult.se iCalcreator 2.10.5//
CALSCALE:GREGORIAN
X-WR-TIMEZONE:Europe/Dublin
BEGIN:VTIMEZONE
TZID:Etc/GMT-1
BEGIN:STANDARD
DTSTART:20010101T000000
TZOFFSETFROM:+0100
TZOFFSETTO:+0100
TZNAME:GMT +01:00
END:STANDARD
END:VTIMEZONE
BEGIN:VEVENT
UID:20260424T130859CEST-4690e1oouh@horsealert.local
DTSTAMP:20260424T110459Z
CATEGORIES:Horse Alerts
DESCRIPTION:Alex Fergusson Memorial Handicap \(Qualifier For The 15\,000 Be
 tfair Scottish Mile Series Final\)
DTSTART:20140605T150000
LOCATION:Scotland
SUMMARY:Horse Racing:Alex Fergusson Memorial Handicap \(Qualifier For The 1
 5\,000 Betfair Scottish Mile Series Final\)
END:VEVENT
END:VCALENDAR
