BEGIN:VCALENDAR
VERSION:2.0
PRODID:-//horsealert.local//NONSGML kigkonsult.se iCalcreator 2.10.5//
CALSCALE:GREGORIAN
X-WR-TIMEZONE:Europe/Dublin
BEGIN:VTIMEZONE
TZID:Etc/GMT-1
BEGIN:STANDARD
DTSTART:20010101T000000
TZOFFSETFROM:+0100
TZOFFSETTO:+0100
TZNAME:GMT +01:00
END:STANDARD
END:VTIMEZONE
BEGIN:VEVENT
UID:20260424T112624CEST-11469c6w1T@horsealert.local
DTSTAMP:20260424T090424Z
CATEGORIES:Horse Alerts
DESCRIPTION:ApolloBet Enhanced Racing Specials Handicap \(Jockey Club Grass
 roots Flat Sprint Series Qualifier\)
DTSTART:20140602T191500
LOCATION:England
SUMMARY:Horse Racing:ApolloBet Enhanced Racing Specials Handicap \(Jockey C
 lub Grassroots Flat Sprint Series Qualifier\)
END:VEVENT
END:VCALENDAR
