BEGIN:VCALENDAR
VERSION:2.0
PRODID:-//horsealert.local//NONSGML kigkonsult.se iCalcreator 2.10.5//
CALSCALE:GREGORIAN
X-WR-TIMEZONE:Europe/Dublin
BEGIN:VTIMEZONE
TZID:Etc/GMT-1
BEGIN:STANDARD
DTSTART:20010101T000000
TZOFFSETFROM:+0100
TZOFFSETTO:+0100
TZNAME:GMT +01:00
END:STANDARD
END:VTIMEZONE
BEGIN:VEVENT
UID:20260424T124950CEST-7680wwLWju@horsealert.local
DTSTAMP:20260424T100450Z
CATEGORIES:Horse Alerts
DESCRIPTION:Infinity Tyres Breeders Backing Racing EBF Maiden Stakes
DTSTART:20140531T163500
LOCATION:England
SUMMARY:Horse Racing:Infinity Tyres Breeders Backing Racing EBF Maiden Stak
 es
END:VEVENT
END:VCALENDAR
