BEGIN:VCALENDAR
VERSION:2.0
PRODID:-//horsealert.local//NONSGML kigkonsult.se iCalcreator 2.10.5//
CALSCALE:GREGORIAN
X-WR-TIMEZONE:Europe/Dublin
BEGIN:VTIMEZONE
TZID:Etc/GMT-1
BEGIN:STANDARD
DTSTART:20010101T000000
TZOFFSETFROM:+0100
TZOFFSETTO:+0100
TZNAME:GMT +01:00
END:STANDARD
END:VTIMEZONE
BEGIN:VEVENT
UID:20260424T141954CEST-5437SZA1WV@horsealert.local
DTSTAMP:20260424T120454Z
CATEGORIES:Horse Alerts
DESCRIPTION:Worcester News Standard NH Flat Race \(Conditional Jockeys And 
 Amateur Riders\)
DTSTART:20140529T151000
LOCATION:England
SUMMARY:Horse Racing:Worcester News Standard NH Flat Race \(Conditional Joc
 keys And Amateur Riders\)
END:VEVENT
END:VCALENDAR
