BEGIN:VCALENDAR
VERSION:2.0
PRODID:-//horsealert.local//NONSGML kigkonsult.se iCalcreator 2.10.5//
CALSCALE:GREGORIAN
X-WR-TIMEZONE:Europe/Dublin
BEGIN:VTIMEZONE
TZID:Etc/GMT-1
BEGIN:STANDARD
DTSTART:20010101T000000
TZOFFSETFROM:+0100
TZOFFSETTO:+0100
TZNAME:GMT +01:00
END:STANDARD
END:VTIMEZONE
BEGIN:VEVENT
UID:20260424T145205CEST-54927zRu86@horsealert.local
DTSTAMP:20260424T120405Z
CATEGORIES:Horse Alerts
DESCRIPTION:Global Radio Open Hunters\' Chase \(For The Horace D. Pain Memo
 rial Trophy\)
DTSTART:20140528T162500
LOCATION:England
SUMMARY:Horse Racing:Global Radio Open Hunters\' Chase \(For The Horace D. 
 Pain Memorial Trophy\)
END:VEVENT
END:VCALENDAR
