BEGIN:VCALENDAR
VERSION:2.0
PRODID:-//horsealert.local//NONSGML kigkonsult.se iCalcreator 2.10.5//
CALSCALE:GREGORIAN
X-WR-TIMEZONE:Europe/Dublin
BEGIN:VTIMEZONE
TZID:Etc/GMT-1
BEGIN:STANDARD
DTSTART:20010101T000000
TZOFFSETFROM:+0100
TZOFFSETTO:+0100
TZNAME:GMT +01:00
END:STANDARD
END:VTIMEZONE
BEGIN:VEVENT
UID:20260424T130821CEST-2638XRKmgN@horsealert.local
DTSTAMP:20260424T110421Z
CATEGORIES:Horse Alerts
DESCRIPTION:Orbiston Handicap \(Qualifier For The 15\,000 Betfair Scottish 
 Stayers Series Final\)
DTSTART:20140528T165000
LOCATION:Scotland
SUMMARY:Horse Racing:Orbiston Handicap \(Qualifier For The 15\,000 Betfair 
 Scottish Stayers Series Final\)
END:VEVENT
END:VCALENDAR
