BEGIN:VCALENDAR
VERSION:2.0
PRODID:-//horsealert.local//NONSGML kigkonsult.se iCalcreator 2.10.5//
CALSCALE:GREGORIAN
X-WR-TIMEZONE:Europe/Dublin
BEGIN:VTIMEZONE
TZID:Etc/GMT-1
BEGIN:STANDARD
DTSTART:20010101T000000
TZOFFSETFROM:+0100
TZOFFSETTO:+0100
TZNAME:GMT +01:00
END:STANDARD
END:VTIMEZONE
BEGIN:VEVENT
UID:20260424T130824CEST-1760CAOLP8@horsealert.local
DTSTAMP:20260424T110424Z
CATEGORIES:Horse Alerts
DESCRIPTION:Mandora Maiden Auction Stakes
DTSTART:20140528T141000
LOCATION:Scotland
SUMMARY:Horse Racing:Mandora Maiden Auction Stakes
END:VEVENT
END:VCALENDAR
