BEGIN:VCALENDAR
VERSION:2.0
PRODID:-//horsealert.local//NONSGML kigkonsult.se iCalcreator 2.10.5//
CALSCALE:GREGORIAN
X-WR-TIMEZONE:Europe/Dublin
BEGIN:VTIMEZONE
TZID:Etc/GMT-1
BEGIN:STANDARD
DTSTART:20010101T000000
TZOFFSETFROM:+0100
TZOFFSETTO:+0100
TZNAME:GMT +01:00
END:STANDARD
END:VTIMEZONE
BEGIN:VEVENT
UID:20260424T145212CEST-1253UIAIHW@horsealert.local
DTSTAMP:20260424T120412Z
CATEGORIES:Horse Alerts
DESCRIPTION:Hilary Needler Trophy \(Fillies\' Conditions Stakes\)
DTSTART:20140528T193000
LOCATION:England
SUMMARY:Horse Racing:Hilary Needler Trophy \(Fillies\' Conditions Stakes\)
END:VEVENT
END:VCALENDAR
