BEGIN:VCALENDAR
VERSION:2.0
PRODID:-//horsealert.local//NONSGML kigkonsult.se iCalcreator 2.10.5//
CALSCALE:GREGORIAN
X-WR-TIMEZONE:Europe/Dublin
BEGIN:VTIMEZONE
TZID:Etc/GMT-1
BEGIN:STANDARD
DTSTART:20010101T000000
TZOFFSETFROM:+0100
TZOFFSETTO:+0100
TZNAME:GMT +01:00
END:STANDARD
END:VTIMEZONE
BEGIN:VEVENT
UID:20260424T130823CEST-6263o9F6BD@horsealert.local
DTSTAMP:20260424T110423Z
CATEGORIES:Horse Alerts
DESCRIPTION:Racing UK Anywhere Available Now Maiden Auction Stakes
DTSTART:20140526T143500
LOCATION:England
SUMMARY:Horse Racing:Racing UK Anywhere Available Now Maiden Auction Stakes
END:VEVENT
END:VCALENDAR
