BEGIN:VCALENDAR
VERSION:2.0
PRODID:-//horsealert.local//NONSGML kigkonsult.se iCalcreator 2.10.5//
CALSCALE:GREGORIAN
X-WR-TIMEZONE:Europe/Dublin
BEGIN:VTIMEZONE
TZID:Etc/GMT-1
BEGIN:STANDARD
DTSTART:20010101T000000
TZOFFSETFROM:+0100
TZOFFSETTO:+0100
TZNAME:GMT +01:00
END:STANDARD
END:VTIMEZONE
BEGIN:VEVENT
UID:20260424T130828CEST-5484vltEu7@horsealert.local
DTSTAMP:20260424T110428Z
CATEGORIES:Horse Alerts
DESCRIPTION:Bet toteexacta Breeders Backing Racing EBF Maiden Fillies\' Sta
 kes
DTSTART:20140526T165500
LOCATION:England
SUMMARY:Horse Racing:Bet toteexacta Breeders Backing Racing EBF Maiden Fill
 ies\' Stakes
END:VEVENT
END:VCALENDAR
