BEGIN:VCALENDAR
VERSION:2.0
PRODID:-//horsealert.local//NONSGML kigkonsult.se iCalcreator 2.10.5//
CALSCALE:GREGORIAN
X-WR-TIMEZONE:Europe/Dublin
BEGIN:VTIMEZONE
TZID:Etc/GMT-1
BEGIN:STANDARD
DTSTART:20010101T000000
TZOFFSETFROM:+0100
TZOFFSETTO:+0100
TZNAME:GMT +01:00
END:STANDARD
END:VTIMEZONE
BEGIN:VEVENT
UID:20260424T145124CEST-9829eAfV2v@horsealert.local
DTSTAMP:20260424T120424Z
CATEGORIES:Horse Alerts
DESCRIPTION:Live In Play Betting With apollobet.com Handicap
DTSTART:20140526T172000
LOCATION:England
SUMMARY:Horse Racing:Live In Play Betting With apollobet.com Handicap
END:VEVENT
END:VCALENDAR
