BEGIN:VCALENDAR
VERSION:2.0
PRODID:-//horsealert.local//NONSGML kigkonsult.se iCalcreator 2.10.5//
CALSCALE:GREGORIAN
X-WR-TIMEZONE:Europe/Dublin
BEGIN:VTIMEZONE
TZID:Etc/GMT-1
BEGIN:STANDARD
DTSTART:20010101T000000
TZOFFSETFROM:+0100
TZOFFSETTO:+0100
TZNAME:GMT +01:00
END:STANDARD
END:VTIMEZONE
BEGIN:VEVENT
UID:20260424T125444CEST-8120WdG1ok@horsealert.local
DTSTAMP:20260424T100444Z
CATEGORIES:Horse Alerts
DESCRIPTION:John Smith\'s Handicap Chase \(For The Wilfred & Patricia Crawf
 ord Memorial Trophy\)
DTSTART:20140525T165500
LOCATION:Scotland
SUMMARY:Horse Racing:John Smith\'s Handicap Chase \(For The Wilfred & Patri
 cia Crawford Memorial Trophy\)
END:VEVENT
END:VCALENDAR
