BEGIN:VCALENDAR
VERSION:2.0
PRODID:-//horsealert.local//NONSGML kigkonsult.se iCalcreator 2.10.5//
CALSCALE:GREGORIAN
X-WR-TIMEZONE:Europe/Dublin
BEGIN:VTIMEZONE
TZID:Etc/GMT-1
BEGIN:STANDARD
DTSTART:20010101T000000
TZOFFSETFROM:+0100
TZOFFSETTO:+0100
TZNAME:GMT +01:00
END:STANDARD
END:VTIMEZONE
BEGIN:VEVENT
UID:20260424T125638CEST-5748vSkMUV@horsealert.local
DTSTAMP:20260424T100438Z
CATEGORIES:Horse Alerts
DESCRIPTION:Emirates Equestrian Federation Handicap
DTSTART:20140525T141500
LOCATION:Eire
SUMMARY:Horse Racing:Emirates Equestrian Federation Handicap
END:VEVENT
END:VCALENDAR
