BEGIN:VCALENDAR
VERSION:2.0
PRODID:-//horsealert.local//NONSGML kigkonsult.se iCalcreator 2.10.5//
CALSCALE:GREGORIAN
X-WR-TIMEZONE:Europe/Dublin
BEGIN:VTIMEZONE
TZID:Etc/GMT-1
BEGIN:STANDARD
DTSTART:20010101T000000
TZOFFSETFROM:+0100
TZOFFSETTO:+0100
TZNAME:GMT +01:00
END:STANDARD
END:VTIMEZONE
BEGIN:VEVENT
UID:20260424T125642CEST-2501Tnc6Ul@horsealert.local
DTSTAMP:20260424T100442Z
CATEGORIES:Horse Alerts
DESCRIPTION:Furness Building Society Mares\' Novices\' Selling Hurdle
DTSTART:20140524T182000
LOCATION:England
SUMMARY:Horse Racing:Furness Building Society Mares\' Novices\' Selling Hur
 dle
END:VEVENT
END:VCALENDAR
