BEGIN:VCALENDAR
VERSION:2.0
PRODID:-//horsealert.local//NONSGML kigkonsult.se iCalcreator 2.10.5//
CALSCALE:GREGORIAN
X-WR-TIMEZONE:Europe/Dublin
BEGIN:VTIMEZONE
TZID:Etc/GMT-1
BEGIN:STANDARD
DTSTART:20010101T000000
TZOFFSETFROM:+0100
TZOFFSETTO:+0100
TZNAME:GMT +01:00
END:STANDARD
END:VTIMEZONE
BEGIN:VEVENT
UID:20260424T124938CEST-8991zo4gDL@horsealert.local
DTSTAMP:20260424T100438Z
CATEGORIES:Horse Alerts
DESCRIPTION:Betfred Mind Blowing Scoop6 Today EBF Stallions Stakes \(Regist
 ered as the Cecil Frail Stakes\) \(Fillies\' Listed\)
DTSTART:20140524T151000
LOCATION:England
SUMMARY:Horse Racing:Betfred Mind Blowing Scoop6 Today EBF Stallions Stakes
  \(Registered as the Cecil Frail Stakes\) \(Fillies\' Listed\)
END:VEVENT
END:VCALENDAR
