BEGIN:VCALENDAR
VERSION:2.0
PRODID:-//horsealert.local//NONSGML kigkonsult.se iCalcreator 2.10.5//
CALSCALE:GREGORIAN
X-WR-TIMEZONE:Europe/Dublin
BEGIN:VTIMEZONE
TZID:Etc/GMT-1
BEGIN:STANDARD
DTSTART:20010101T000000
TZOFFSETFROM:+0100
TZOFFSETTO:+0100
TZNAME:GMT +01:00
END:STANDARD
END:VTIMEZONE
BEGIN:VEVENT
UID:20260424T125808CEST-7615WLeipV@horsealert.local
DTSTAMP:20260424T100408Z
CATEGORIES:Horse Alerts
DESCRIPTION:Betfred Scoop6 15 Million Today Handicap
DTSTART:20140524T140500
LOCATION:England
SUMMARY:Horse Racing:Betfred Scoop6 15 Million Today Handicap
END:VEVENT
END:VCALENDAR
