BEGIN:VCALENDAR
VERSION:2.0
PRODID:-//horsealert.local//NONSGML kigkonsult.se iCalcreator 2.10.5//
CALSCALE:GREGORIAN
X-WR-TIMEZONE:Europe/Dublin
BEGIN:VTIMEZONE
TZID:Etc/GMT-1
BEGIN:STANDARD
DTSTART:20010101T000000
TZOFFSETFROM:+0100
TZOFFSETTO:+0100
TZNAME:GMT +01:00
END:STANDARD
END:VTIMEZONE
BEGIN:VEVENT
UID:20260424T124933CEST-3496rb4V7U@horsealert.local
DTSTAMP:20260424T100433Z
CATEGORIES:Horse Alerts
DESCRIPTION:Trafalgar Restaurant At Great Yarmouth Racecourse Fillies\' Han
 dicap
DTSTART:20140523T155000
LOCATION:England
SUMMARY:Horse Racing:Trafalgar Restaurant At Great Yarmouth Racecourse Fill
 ies\' Handicap
END:VEVENT
END:VCALENDAR
