BEGIN:VCALENDAR
VERSION:2.0
PRODID:-//horsealert.local//NONSGML kigkonsult.se iCalcreator 2.10.5//
CALSCALE:GREGORIAN
X-WR-TIMEZONE:Europe/Dublin
BEGIN:VTIMEZONE
TZID:Etc/GMT-1
BEGIN:STANDARD
DTSTART:20010101T000000
TZOFFSETFROM:+0100
TZOFFSETTO:+0100
TZNAME:GMT +01:00
END:STANDARD
END:VTIMEZONE
BEGIN:VEVENT
UID:20260424T165143CEST-6626LNUz7P@horsealert.local
DTSTAMP:20260424T140443Z
CATEGORIES:Horse Alerts
DESCRIPTION:SIS Bringing Betting To Life Handicap Chase
DTSTART:20140521T144000
LOCATION:England
SUMMARY:Horse Racing:SIS Bringing Betting To Life Handicap Chase
END:VEVENT
END:VCALENDAR
