BEGIN:VCALENDAR
VERSION:2.0
PRODID:-//horsealert.local//NONSGML kigkonsult.se iCalcreator 2.10.5//
CALSCALE:GREGORIAN
X-WR-TIMEZONE:Europe/Dublin
BEGIN:VTIMEZONE
TZID:Etc/GMT-1
BEGIN:STANDARD
DTSTART:20010101T000000
TZOFFSETFROM:+0100
TZOFFSETTO:+0100
TZNAME:GMT +01:00
END:STANDARD
END:VTIMEZONE
BEGIN:VEVENT
UID:20260424T142006CEST-0319TJM8xv@horsealert.local
DTSTAMP:20260424T120406Z
CATEGORIES:Horse Alerts
DESCRIPTION:www.countysligoraces.com \(Pro/Am\) Flat Race
DTSTART:20140521T210000
LOCATION:Eire
SUMMARY:Horse Racing:www.countysligoraces.com \(Pro/Am\) Flat Race
END:VEVENT
END:VCALENDAR
