BEGIN:VCALENDAR
VERSION:2.0
PRODID:-//horsealert.local//NONSGML kigkonsult.se iCalcreator 2.10.5//
CALSCALE:GREGORIAN
X-WR-TIMEZONE:Europe/Dublin
BEGIN:VTIMEZONE
TZID:Etc/GMT-1
BEGIN:STANDARD
DTSTART:20010101T000000
TZOFFSETFROM:+0100
TZOFFSETTO:+0100
TZNAME:GMT +01:00
END:STANDARD
END:VTIMEZONE
BEGIN:VEVENT
UID:20260424T131017CEST-7281P6gD6R@horsealert.local
DTSTAMP:20260424T110417Z
CATEGORIES:Horse Alerts
DESCRIPTION:Betdaq - The Sports Betting Exchange Handicap \(London Middle D
 istance Series Qualifier\)
DTSTART:20140521T192000
LOCATION:England
SUMMARY:Horse Racing:Betdaq - The Sports Betting Exchange Handicap \(London
  Middle Distance Series Qualifier\)
END:VEVENT
END:VCALENDAR
