BEGIN:VCALENDAR
VERSION:2.0
PRODID:-//horsealert.local//NONSGML kigkonsult.se iCalcreator 2.10.5//
CALSCALE:GREGORIAN
X-WR-TIMEZONE:Europe/Dublin
BEGIN:VTIMEZONE
TZID:Etc/GMT-1
BEGIN:STANDARD
DTSTART:20010101T000000
TZOFFSETFROM:+0100
TZOFFSETTO:+0100
TZNAME:GMT +01:00
END:STANDARD
END:VTIMEZONE
BEGIN:VEVENT
UID:20260424T130818CEST-8058F8ZUdF@horsealert.local
DTSTAMP:20260424T110418Z
CATEGORIES:Horse Alerts
DESCRIPTION:Watch On 3 Devices racinguk.com/anywhere Handicap \(Qualifier F
 or The 15\,000 Betfair Scottish Stayers Series Final\)
DTSTART:20140521T162000
LOCATION:Scotland
SUMMARY:Horse Racing:Watch On 3 Devices racinguk.com/anywhere Handicap \(Qu
 alifier For The 15\,000 Betfair Scottish Stayers Series Final\)
END:VEVENT
END:VCALENDAR
