BEGIN:VCALENDAR
VERSION:2.0
PRODID:-//horsealert.local//NONSGML kigkonsult.se iCalcreator 2.10.5//
CALSCALE:GREGORIAN
X-WR-TIMEZONE:Europe/Dublin
BEGIN:VTIMEZONE
TZID:Etc/GMT-1
BEGIN:STANDARD
DTSTART:20010101T000000
TZOFFSETFROM:+0100
TZOFFSETTO:+0100
TZNAME:GMT +01:00
END:STANDARD
END:VTIMEZONE
BEGIN:VEVENT
UID:20260424T124939CEST-3548v8gd4z@horsealert.local
DTSTAMP:20260424T100439Z
CATEGORIES:Horse Alerts
DESCRIPTION:La Barka \(Group 2\) Hurdle
DTSTART:20140518T165000
LOCATION:France
SUMMARY:Horse Racing:La Barka \(Group 2\) Hurdle
END:VEVENT
END:VCALENDAR
