BEGIN:VCALENDAR
VERSION:2.0
PRODID:-//horsealert.local//NONSGML kigkonsult.se iCalcreator 2.10.5//
CALSCALE:GREGORIAN
X-WR-TIMEZONE:Europe/Dublin
BEGIN:VTIMEZONE
TZID:Etc/GMT-1
BEGIN:STANDARD
DTSTART:20010101T000000
TZOFFSETFROM:+0100
TZOFFSETTO:+0100
TZNAME:GMT +01:00
END:STANDARD
END:VTIMEZONE
BEGIN:VEVENT
UID:20260424T124940CEST-8699o7uM0r@horsealert.local
DTSTAMP:20260424T100440Z
CATEGORIES:Horse Alerts
DESCRIPTION:stratfordcaravans.co.uk Handicap Hurdle \(For The Charles Lea M
 emorial Trophy\)
DTSTART:20140518T155000
LOCATION:England
SUMMARY:Horse Racing:stratfordcaravans.co.uk Handicap Hurdle \(For The Char
 les Lea Memorial Trophy\)
END:VEVENT
END:VCALENDAR
