BEGIN:VCALENDAR
VERSION:2.0
PRODID:-//horsealert.local//NONSGML kigkonsult.se iCalcreator 2.10.5//
CALSCALE:GREGORIAN
X-WR-TIMEZONE:Europe/Dublin
BEGIN:VTIMEZONE
TZID:Etc/GMT-1
BEGIN:STANDARD
DTSTART:20010101T000000
TZOFFSETFROM:+0100
TZOFFSETTO:+0100
TZNAME:GMT +01:00
END:STANDARD
END:VTIMEZONE
BEGIN:VEVENT
UID:20260424T125631CEST-1966u2ju1U@horsealert.local
DTSTAMP:20260424T100431Z
CATEGORIES:Horse Alerts
DESCRIPTION:Betfred Play 10 Million Scoop6 Today EBF Stallions Maiden Stake
 s
DTSTART:20140517T133000
LOCATION:England
SUMMARY:Horse Racing:Betfred Play 10 Million Scoop6 Today EBF Stallions Mai
 den Stakes
END:VEVENT
END:VCALENDAR
