BEGIN:VCALENDAR
VERSION:2.0
PRODID:-//horsealert.local//NONSGML kigkonsult.se iCalcreator 2.10.5//
CALSCALE:GREGORIAN
X-WR-TIMEZONE:Europe/Dublin
BEGIN:VTIMEZONE
TZID:Etc/GMT-1
BEGIN:STANDARD
DTSTART:20010101T000000
TZOFFSETFROM:+0100
TZOFFSETTO:+0100
TZNAME:GMT +01:00
END:STANDARD
END:VTIMEZONE
BEGIN:VEVENT
UID:20260424T130948CEST-45162LRV22@horsealert.local
DTSTAMP:20260424T110448Z
CATEGORIES:Horse Alerts
DESCRIPTION:Kilfeacle Stud \'Portrait Gallery\' Handicap Chase \(0-116\)
DTSTART:20140515T191000
LOCATION:Eire
SUMMARY:Horse Racing:Kilfeacle Stud \'Portrait Gallery\' Handicap Chase \(0
 -116\)
END:VEVENT
END:VCALENDAR
