BEGIN:VCALENDAR
VERSION:2.0
PRODID:-//horsealert.local//NONSGML kigkonsult.se iCalcreator 2.10.5//
CALSCALE:GREGORIAN
X-WR-TIMEZONE:Europe/Dublin
BEGIN:VTIMEZONE
TZID:Etc/GMT-1
BEGIN:STANDARD
DTSTART:20010101T000000
TZOFFSETFROM:+0100
TZOFFSETTO:+0100
TZNAME:GMT +01:00
END:STANDARD
END:VTIMEZONE
BEGIN:VEVENT
UID:20260424T130924CEST-6909iONo9p@horsealert.local
DTSTAMP:20260424T110424Z
CATEGORIES:Horse Alerts
DESCRIPTION:Ryans Cleaning Event Specialists Handicap Hurdle \(80-102\) \(D
 iv 2\)
DTSTART:20140515T180500
LOCATION:Eire
SUMMARY:Horse Racing:Ryans Cleaning Event Specialists Handicap Hurdle \(80-
 102\) \(Div 2\)
END:VEVENT
END:VCALENDAR
