BEGIN:VCALENDAR
VERSION:2.0
PRODID:-//horsealert.local//NONSGML kigkonsult.se iCalcreator 2.10.5//
CALSCALE:GREGORIAN
X-WR-TIMEZONE:Europe/Dublin
BEGIN:VTIMEZONE
TZID:Etc/GMT-1
BEGIN:STANDARD
DTSTART:20010101T000000
TZOFFSETFROM:+0100
TZOFFSETTO:+0100
TZNAME:GMT +01:00
END:STANDARD
END:VTIMEZONE
BEGIN:VEVENT
UID:20260424T145156CEST-3477wKFxNr@horsealert.local
DTSTAMP:20260424T120456Z
CATEGORIES:Horse Alerts
DESCRIPTION:Timothy Hardie Jewellers Glitter In A Glass Conditional Jockeys
 \' Handicap Hurdle
DTSTART:20140515T160000
LOCATION:Scotland
SUMMARY:Horse Racing:Timothy Hardie Jewellers Glitter In A Glass Conditiona
 l Jockeys\' Handicap Hurdle
END:VEVENT
END:VCALENDAR
