BEGIN:VCALENDAR
VERSION:2.0
PRODID:-//horsealert.local//NONSGML kigkonsult.se iCalcreator 2.10.5//
CALSCALE:GREGORIAN
X-WR-TIMEZONE:Europe/Dublin
BEGIN:VTIMEZONE
TZID:Etc/GMT-1
BEGIN:STANDARD
DTSTART:20010101T000000
TZOFFSETFROM:+0100
TZOFFSETTO:+0100
TZNAME:GMT +01:00
END:STANDARD
END:VTIMEZONE
BEGIN:VEVENT
UID:20260424T145201CEST-1765NsVcIj@horsealert.local
DTSTAMP:20260424T120401Z
CATEGORIES:Horse Alerts
DESCRIPTION:Mac & Posh VIP Experience Novices\' Hurdle \(Betfair Scottish H
 urdle Series Qualifier\)
DTSTART:20140515T142500
LOCATION:Scotland
SUMMARY:Horse Racing:Mac & Posh VIP Experience Novices\' Hurdle \(Betfair S
 cottish Hurdle Series Qualifier\)
END:VEVENT
END:VCALENDAR
