BEGIN:VCALENDAR
VERSION:2.0
PRODID:-//horsealert.local//NONSGML kigkonsult.se iCalcreator 2.10.5//
CALSCALE:GREGORIAN
X-WR-TIMEZONE:Europe/Dublin
BEGIN:VTIMEZONE
TZID:Etc/GMT-1
BEGIN:STANDARD
DTSTART:20010101T000000
TZOFFSETFROM:+0100
TZOFFSETTO:+0100
TZNAME:GMT +01:00
END:STANDARD
END:VTIMEZONE
BEGIN:VEVENT
UID:20260424T145124CEST-7998c1crHg@horsealert.local
DTSTAMP:20260424T120424Z
CATEGORIES:Horse Alerts
DESCRIPTION:Weatherbys Private Banking United Hunts Open Champion Hunters\'
  Chase
DTSTART:20140515T185000
LOCATION:England
SUMMARY:Horse Racing:Weatherbys Private Banking United Hunts Open Champion 
 Hunters\' Chase
END:VEVENT
END:VCALENDAR
