BEGIN:VCALENDAR
VERSION:2.0
PRODID:-//horsealert.local//NONSGML kigkonsult.se iCalcreator 2.10.5//
CALSCALE:GREGORIAN
X-WR-TIMEZONE:Europe/Dublin
BEGIN:VTIMEZONE
TZID:Etc/GMT-1
BEGIN:STANDARD
DTSTART:20010101T000000
TZOFFSETFROM:+0100
TZOFFSETTO:+0100
TZNAME:GMT +01:00
END:STANDARD
END:VTIMEZONE
BEGIN:VEVENT
UID:20260424T130930CEST-5150fvinK9@horsealert.local
DTSTAMP:20260424T110430Z
CATEGORIES:Horse Alerts
DESCRIPTION:Weatherbys Private Banking Novices\' Hunters\' Chase \(For The 
 Guy Peate Memorial Challenge Trophy\)
DTSTART:20140515T171500
LOCATION:England
SUMMARY:Horse Racing:Weatherbys Private Banking Novices\' Hunters\' Chase \
 (For The Guy Peate Memorial Challenge Trophy\)
END:VEVENT
END:VCALENDAR
