BEGIN:VCALENDAR
VERSION:2.0
PRODID:-//horsealert.local//NONSGML kigkonsult.se iCalcreator 2.10.5//
CALSCALE:GREGORIAN
X-WR-TIMEZONE:Europe/Dublin
BEGIN:VTIMEZONE
TZID:Etc/GMT-1
BEGIN:STANDARD
DTSTART:20010101T000000
TZOFFSETFROM:+0100
TZOFFSETTO:+0100
TZNAME:GMT +01:00
END:STANDARD
END:VTIMEZONE
BEGIN:VEVENT
UID:20260424T130921CEST-2260Emui46@horsealert.local
DTSTAMP:20260424T110421Z
CATEGORIES:Horse Alerts
DESCRIPTION:Stratford Place Stud Chriselliam Memorial EBF Stallions Maiden 
 Stakes
DTSTART:20140515T162500
LOCATION:England
SUMMARY:Horse Racing:Stratford Place Stud Chriselliam Memorial EBF Stallion
 s Maiden Stakes
END:VEVENT
END:VCALENDAR
