BEGIN:VCALENDAR
VERSION:2.0
PRODID:-//horsealert.local//NONSGML kigkonsult.se iCalcreator 2.10.5//
CALSCALE:GREGORIAN
X-WR-TIMEZONE:Europe/Dublin
BEGIN:VTIMEZONE
TZID:Etc/GMT-1
BEGIN:STANDARD
DTSTART:20010101T000000
TZOFFSETFROM:+0100
TZOFFSETTO:+0100
TZNAME:GMT +01:00
END:STANDARD
END:VTIMEZONE
BEGIN:VEVENT
UID:20260424T145202CEST-2641XR3RWt@horsealert.local
DTSTAMP:20260424T120402Z
CATEGORIES:Horse Alerts
DESCRIPTION:\'Betfred 10 Million Scoop6 This Saturday\' Middleton Stakes \(
 Fillies\' Group 2\)
DTSTART:20140515T141500
LOCATION:England
SUMMARY:Horse Racing:\'Betfred 10 Million Scoop6 This Saturday\' Middleton 
 Stakes \(Fillies\' Group 2\)
END:VEVENT
END:VCALENDAR
