BEGIN:VCALENDAR
VERSION:2.0
PRODID:-//horsealert.local//NONSGML kigkonsult.se iCalcreator 2.10.5//
CALSCALE:GREGORIAN
X-WR-TIMEZONE:Europe/Dublin
BEGIN:VTIMEZONE
TZID:Etc/GMT-1
BEGIN:STANDARD
DTSTART:20010101T000000
TZOFFSETFROM:+0100
TZOFFSETTO:+0100
TZNAME:GMT +01:00
END:STANDARD
END:VTIMEZONE
BEGIN:VEVENT
UID:20260424T125554CEST-8622v0rnvD@horsealert.local
DTSTAMP:20260424T100454Z
CATEGORIES:Horse Alerts
DESCRIPTION:Bet On All UK Racing With totepool Open Hunters\' Chase \(Midla
 nds Point-To-Point Area\)
DTSTART:20140513T180000
LOCATION:England
SUMMARY:Horse Racing:Bet On All UK Racing With totepool Open Hunters\' Chas
 e \(Midlands Point-To-Point Area\)
END:VEVENT
END:VCALENDAR
