BEGIN:VCALENDAR
VERSION:2.0
PRODID:-//horsealert.local//NONSGML kigkonsult.se iCalcreator 2.10.5//
CALSCALE:GREGORIAN
X-WR-TIMEZONE:Europe/Dublin
BEGIN:VTIMEZONE
TZID:Etc/GMT-1
BEGIN:STANDARD
DTSTART:20010101T000000
TZOFFSETFROM:+0100
TZOFFSETTO:+0100
TZNAME:GMT +01:00
END:STANDARD
END:VTIMEZONE
BEGIN:VEVENT
UID:20260424T130934CEST-5255vEeIHH@horsealert.local
DTSTAMP:20260424T110434Z
CATEGORIES:Horse Alerts
DESCRIPTION:Poule Essai Poulains \(Group 1 - French 2000 Guineas\)
DTSTART:20140511T144500
LOCATION:France
SUMMARY:Horse Racing:Poule Essai Poulains \(Group 1 - French 2000 Guineas\)
END:VEVENT
END:VCALENDAR
