BEGIN:VCALENDAR
VERSION:2.0
PRODID:-//horsealert.local//NONSGML kigkonsult.se iCalcreator 2.10.5//
CALSCALE:GREGORIAN
X-WR-TIMEZONE:Europe/Dublin
BEGIN:VTIMEZONE
TZID:Etc/GMT-1
BEGIN:STANDARD
DTSTART:20010101T000000
TZOFFSETFROM:+0100
TZOFFSETTO:+0100
TZNAME:GMT +01:00
END:STANDARD
END:VTIMEZONE
BEGIN:VEVENT
UID:20260424T124936CEST-07989IMVbU@horsealert.local
DTSTAMP:20260424T100436Z
CATEGORIES:Horse Alerts
DESCRIPTION:Hexham Courant 150th Anniversary Run Conditional Jockeys\' Hand
 icap Chase
DTSTART:20140510T150500
LOCATION:England
SUMMARY:Horse Racing:Hexham Courant 150th Anniversary Run Conditional Jocke
 ys\' Handicap Chase
END:VEVENT
END:VCALENDAR
