BEGIN:VCALENDAR
VERSION:2.0
PRODID:-//horsealert.local//NONSGML kigkonsult.se iCalcreator 2.10.5//
CALSCALE:GREGORIAN
X-WR-TIMEZONE:Europe/Dublin
BEGIN:VTIMEZONE
TZID:Etc/GMT-1
BEGIN:STANDARD
DTSTART:20010101T000000
TZOFFSETFROM:+0100
TZOFFSETTO:+0100
TZNAME:GMT +01:00
END:STANDARD
END:VTIMEZONE
BEGIN:VEVENT
UID:20260424T124933CEST-6141LTNgVT@horsealert.local
DTSTAMP:20260424T100433Z
CATEGORIES:Horse Alerts
DESCRIPTION:Cut The Mustard With Mustard Presentations Handicap
DTSTART:20140510T202500
LOCATION:England
SUMMARY:Horse Racing:Cut The Mustard With Mustard Presentations Handicap
END:VEVENT
END:VCALENDAR
