BEGIN:VCALENDAR
VERSION:2.0
PRODID:-//horsealert.local//NONSGML kigkonsult.se iCalcreator 2.10.5//
CALSCALE:GREGORIAN
X-WR-TIMEZONE:Europe/Dublin
BEGIN:VTIMEZONE
TZID:Etc/GMT-1
BEGIN:STANDARD
DTSTART:20010101T000000
TZOFFSETFROM:+0100
TZOFFSETTO:+0100
TZNAME:GMT +01:00
END:STANDARD
END:VTIMEZONE
BEGIN:VEVENT
UID:20260424T125808CEST-3879jKszoe@horsealert.local
DTSTAMP:20260424T100408Z
CATEGORIES:Horse Alerts
DESCRIPTION:Betfred 7.5 Million Scoop6 Today Oaks Trial Stakes \(Fillies Li
 sted\)
DTSTART:20140510T142000
LOCATION:England
SUMMARY:Horse Racing:Betfred 7.5 Million Scoop6 Today Oaks Trial Stakes \(F
 illies Listed\)
END:VEVENT
END:VCALENDAR
