BEGIN:VCALENDAR
VERSION:2.0
PRODID:-//horsealert.local//NONSGML kigkonsult.se iCalcreator 2.10.5//
CALSCALE:GREGORIAN
X-WR-TIMEZONE:Europe/Dublin
BEGIN:VTIMEZONE
TZID:Etc/GMT-1
BEGIN:STANDARD
DTSTART:20010101T000000
TZOFFSETFROM:+0100
TZOFFSETTO:+0100
TZNAME:GMT +01:00
END:STANDARD
END:VTIMEZONE
BEGIN:VEVENT
UID:20260424T124942CEST-1062w0vtjl@horsealert.local
DTSTAMP:20260424T100442Z
CATEGORIES:Horse Alerts
DESCRIPTION:Betfair Price Rush Huxley Stakes \(For The Tradesman\'s Cup\) \
 (Group 3\)
DTSTART:20140508T141500
LOCATION:England
SUMMARY:Horse Racing:Betfair Price Rush Huxley Stakes \(For The Tradesman\'
 s Cup\) \(Group 3\)
END:VEVENT
END:VCALENDAR
