BEGIN:VCALENDAR
VERSION:2.0
PRODID:-//horsealert.local//NONSGML kigkonsult.se iCalcreator 2.10.5//
CALSCALE:GREGORIAN
X-WR-TIMEZONE:Europe/Dublin
BEGIN:VTIMEZONE
TZID:Etc/GMT-1
BEGIN:STANDARD
DTSTART:20010101T000000
TZOFFSETFROM:+0100
TZOFFSETTO:+0100
TZNAME:GMT +01:00
END:STANDARD
END:VTIMEZONE
BEGIN:VEVENT
UID:20260424T125444CEST-4229BJMIr6@horsealert.local
DTSTAMP:20260424T100444Z
CATEGORIES:Horse Alerts
DESCRIPTION:Betfair Scottish Chase Series Final \(Handicap Chase\) \(For Th
 e Haddington Jubilee Cup\)
DTSTART:20140507T163500
LOCATION:Scotland
SUMMARY:Horse Racing:Betfair Scottish Chase Series Final \(Handicap Chase\)
  \(For The Haddington Jubilee Cup\)
END:VEVENT
END:VCALENDAR
