BEGIN:VCALENDAR
VERSION:2.0
PRODID:-//horsealert.local//NONSGML kigkonsult.se iCalcreator 2.10.5//
CALSCALE:GREGORIAN
X-WR-TIMEZONE:Europe/Dublin
BEGIN:VTIMEZONE
TZID:Etc/GMT-1
BEGIN:STANDARD
DTSTART:20010101T000000
TZOFFSETFROM:+0100
TZOFFSETTO:+0100
TZNAME:GMT +01:00
END:STANDARD
END:VTIMEZONE
BEGIN:VEVENT
UID:20260424T145125CEST-2520trCVmT@horsealert.local
DTSTAMP:20260424T120425Z
CATEGORIES:Horse Alerts
DESCRIPTION:Fakenham Ladies Day 1st June Open Hunters\' Chase \(For The Tur
 ner Family Trophy\)
DTSTART:20140506T163000
LOCATION:England
SUMMARY:Horse Racing:Fakenham Ladies Day 1st June Open Hunters\' Chase \(Fo
 r The Turner Family Trophy\)
END:VEVENT
END:VCALENDAR
