BEGIN:VCALENDAR
VERSION:2.0
PRODID:-//horsealert.local//NONSGML kigkonsult.se iCalcreator 2.10.5//
CALSCALE:GREGORIAN
X-WR-TIMEZONE:Europe/Dublin
BEGIN:VTIMEZONE
TZID:Etc/GMT-1
BEGIN:STANDARD
DTSTART:20010101T000000
TZOFFSETFROM:+0100
TZOFFSETTO:+0100
TZNAME:GMT +01:00
END:STANDARD
END:VTIMEZONE
BEGIN:VEVENT
UID:20260424T145148CEST-8809B5KG2t@horsealert.local
DTSTAMP:20260424T120448Z
CATEGORIES:Horse Alerts
DESCRIPTION:Teignmouth Inn Dawlish Intermediate Hunters\' Chase \(Series Fi
 nal\)
DTSTART:20140506T195000
LOCATION:England
SUMMARY:Horse Racing:Teignmouth Inn Dawlish Intermediate Hunters\' Chase \(
 Series Final\)
END:VEVENT
END:VCALENDAR
